BEGIN:VCALENDAR
PRODID:-//AT Content Types//AT Event//EN
VERSION:2.0
METHOD:PUBLISH
BEGIN:VEVENT
DTSTAMP:20260421T112157Z
CREATED:20070930T151523Z
UID:ATEvent-1f812d4a38fd7ee36f70f27c5f0a00eb
LAST-MODIFIED:20090123T152039Z
SUMMARY:Philosophenlounge - Thema\:  „Den Wolf umarmen"
DTSTART:20081106T180000Z
DTEND:20081106T200000Z
DESCRIPTION:Treffen rund um Lebenskunst und Philosophie
LOCATION:Café Aufbruch\, Hintere Schildstr. 18\, Do-Hörde
CATEGORIES:Gesprächsrunde
CLASS:PUBLIC
END:VEVENT
END:VCALENDAR
