BEGIN:VCALENDAR
PRODID:-//AT Content Types//AT Event//EN
VERSION:1.0
BEGIN:VEVENT
DTSTART:20081013T180000Z
DTEND:20081013T193000Z
DCREATED:20080511T164320Z
UID:ATEvent-f77be717121d35886192bbad5bc328b2
SEQUENCE:0
LAST-MODIFIED:20090123T152039Z
SUMMARY:Gesprächskreis
DESCRIPTION:über das Buch "Integrale Spiritualität" von Ken Wilber.\
 nHeute mit dem Thema\: Ein Wunder namens Wir.
LOCATION:Café Aufbruch\, Hintere Schildstr. 18\, Do-Hörde
PRIORITY:3
TRANSP:0
END:VEVENT
END:VCALENDAR
