BEGIN:VCALENDAR
PRODID:-//AT Content Types//AT Event//EN
VERSION:1.0
BEGIN:VEVENT
DTSTART:20081010T150000Z
DTEND:20081010T163000Z
DCREATED:20070616T131527Z
UID:ATEvent-8c3a8bd2be330366a51281d7de625367
SEQUENCE:0
LAST-MODIFIED:20090123T152039Z
SUMMARY:Frauencafé Couragina
DESCRIPTION:Heute\: "Natürlich weiblich".  Über die Heimatlosigkeit 
 der Frau im Patriarchat.\nDiskussion über das Buch von Christa Mullak
 .
LOCATION:Café Aufbruch\, Hintere Schildstr. 18\, Do-Hörde
PRIORITY:3
TRANSP:0
END:VEVENT
END:VCALENDAR
