BEGIN:VCALENDAR
PRODID:-//AT Content Types//AT Event//EN
VERSION:1.0
BEGIN:VEVENT
DTSTART:20080904T170000Z
DTEND:20080904T190000Z
DCREATED:20070930T151523Z
UID:ATEvent-0e1f9767c3cf25194b5d658e3d3f12c5
SEQUENCE:0
LAST-MODIFIED:20090123T152038Z
SUMMARY:Philosophenlounge - Thema\: „Wer bin ich- und wenn ja\, wie viele?“
DESCRIPTION:Treffen rund um Lebenskunst und Philosophie
LOCATION:Café Aufbruch\, Hintere Schildstr. 18\, Do-Hörde
PRIORITY:3
TRANSP:0
END:VEVENT
END:VCALENDAR
