BEGIN:VCALENDAR
PRODID:-//AT Content Types//AT Event//EN
VERSION:1.0
BEGIN:VEVENT
DTSTART:20080830T130000Z
DTEND:20080830T143000Z
DCREATED:20080511T192718Z
UID:ATEvent-c32b6c69d135a285f5ffb767afca828a
SEQUENCE:0
LAST-MODIFIED:20090123T152037Z
SUMMARY:Matriarchaler Kulturkreis
DESCRIPTION:Heute\: Matriarchale Strukturen in Mittel- und Südamerika
 
LOCATION:Café Aufbruch\, Hintere Schildstr. 18\, Do-Hörde
PRIORITY:3
TRANSP:0
END:VEVENT
END:VCALENDAR
