BEGIN:VCALENDAR
PRODID:-//AT Content Types//AT Event//EN
VERSION:2.0
METHOD:PUBLISH
BEGIN:VEVENT
DTSTAMP:20260421T082412Z
CREATED:20080511T192718Z
UID:ATEvent-7a0cbe1387807a801582cb6ef8d88aa4
LAST-MODIFIED:20090123T152036Z
SUMMARY:Matriarchaler Kulturkreis
DTSTART:20080726T130000Z
DTEND:20080726T143000Z
DESCRIPTION:Heute\: Die matriarchale Stadt Jujitan in Mexiko und das  
 bedingungslose Grundeinkommen
LOCATION:Café Aufbruch\, Hintere Schildstr. 18\, Do-Hörde
CATEGORIES:Gesprächsrunde
CLASS:PUBLIC
END:VEVENT
END:VCALENDAR
