BEGIN:VCALENDAR
PRODID:-//AT Content Types//AT Event//EN
VERSION:2.0
METHOD:PUBLISH
BEGIN:VEVENT
DTSTAMP:20260421T112246Z
CREATED:20070806T105207Z
UID:ATEvent-f2a42e9869895523d2d82fc3212786b0
LAST-MODIFIED:20100324T222304Z
SUMMARY:Aufbruch-Treffen
DTSTART:20100417T150000Z
DTEND:20100417T180000Z
DESCRIPTION:Monatliches Treffen der Initiative „Aufbruch - anders be
 sser leben“. Austausch\, Informationen\, gemeinsam essen (traditione
 ll bringt jede(r) etwas mit).
LOCATION:Café Aufbruch\, Hintere Schildstr. 18\, Dortmund-Hörde
CATEGORIES:Gesprächsrunde
CLASS:PUBLIC
END:VEVENT
END:VCALENDAR
