BEGIN:VCALENDAR
PRODID:-//AT Content Types//AT Event//EN
VERSION:2.0
METHOD:PUBLISH
BEGIN:VEVENT
DTSTAMP:20260421T112353Z
CREATED:20080608T202749Z
UID:ATEvent-5c627451effb9f3bd39427a07b2f23db
LAST-MODIFIED:20090123T152035Z
SUMMARY:Eine Menschenrechtsbeobachterin berichtet über die Zapatistas in Chiapas/Mexiko
DTSTART:20080708T170000Z
DTEND:20080708T190000Z
DESCRIPTION:Rosalinde Siebenhaar aus Hagen verbrachte in diesem Frühj
 ahr vier Wochen als\nMenschenrechtsbeobachterin in einer von der Vertr
 eibung bedrohten\nGemeinde in Chiapas/Mexiko.
LOCATION:Café Aufbruch\, Hintere Schildstr. 18\, Do-Hörde
CATEGORIES:Vortrag mit Diskussion
CLASS:PUBLIC
END:VEVENT
END:VCALENDAR
