BEGIN:VCALENDAR
PRODID:-//AT Content Types//AT Event//EN
VERSION:2.0
METHOD:PUBLISH
BEGIN:VEVENT
DTSTAMP:20260422T085018Z
CREATED:20070806T105207Z
UID:ATEvent-55237353fb374a6431c269d25e71522b
LAST-MODIFIED:20090123T152035Z
SUMMARY:Aufbruch-Treffen und Jahreszeitenfest\: Sommersonnenwendfeier
DTSTART:20080621T150000Z
DTEND:20080621T200000Z
DESCRIPTION:Monatliches Treffen der Initiative „Aufbruch - anders be
 sser leben“. Austausch\, Informationen.\nAnschließend feiern wir am
  Marksbach die Sommersonnenwende mit gemeinsamem Essen\, zu dem jeder 
 etwas mitbringt.
LOCATION:Im Café Aufbruch und am Marksbach
CATEGORIES:Jahreszeitenfest
CLASS:PUBLIC
END:VEVENT
END:VCALENDAR
