BEGIN:VCALENDAR
PRODID:-//AT Content Types//AT Event//EN
VERSION:1.0
BEGIN:VEVENT
DTSTART:20080613T150000Z
DTEND:20080613T163000Z
DCREATED:20070616T131527Z
UID:ATEvent-d6bedb8ee3ac61cc9b8f91d9e55aeb8f
SEQUENCE:0
LAST-MODIFIED:20090123T152034Z
SUMMARY:Frauencafé Couragina
DESCRIPTION:Thema\: Die heilende Wirkung von Farben
LOCATION:Café Aufbruch\, Hintere Schildstr. 18\, Do-Hörde
PRIORITY:3
TRANSP:0
END:VEVENT
END:VCALENDAR
