BEGIN:VCALENDAR
PRODID:-//AT Content Types//AT Event//EN
VERSION:2.0
METHOD:PUBLISH
BEGIN:VEVENT
DTSTAMP:20260421T112113Z
CREATED:20070425T104612Z
UID:ATEvent-f95a69a224bf1edef1ae7de80fe0f8c4
LAST-MODIFIED:20090123T152034Z
SUMMARY:Einführung in die Nutzung freier Software
DTSTART:20080611T180000Z
DTEND:20080611T193000Z
DESCRIPTION:(Neue) AnwenderInnen freier Software erlernen die wichtigs
 ten Zusammenhänge und Anwendungsprogramme für den Alltagsgebrauch ih
 res (befreiten\:) Computers
LOCATION:Café Aufbruch\, Hintere Schildstr. 18\, Do-Hörde
CATEGORIES:Computerkurs
CONTACT:cafe-aufbruch@dieseswortloeschen.free.de
CLASS:PUBLIC
END:VEVENT
END:VCALENDAR
