BEGIN:VCALENDAR
PRODID:-//AT Content Types//AT Event//EN
VERSION:1.0
BEGIN:VEVENT
DTSTART:20080603T170000Z
DTEND:20080603T183000Z
DCREATED:20080511T195146Z
UID:ATEvent-9baab106da0857d91eaa43d6447bf4c4
SEQUENCE:0
LAST-MODIFIED:20090123T152033Z
SUMMARY:Qigong-Kurs
DESCRIPTION:Yangsheng - 8 Übungen aus den 15 Ausdrucksformen
LOCATION:Café Aufbruch\, Hintere Schildstr. 18\, Do-Hörde
PRIORITY:3
TRANSP:0
END:VEVENT
END:VCALENDAR
