BEGIN:VCALENDAR
PRODID:-//AT Content Types//AT Event//EN
VERSION:2.0
METHOD:PUBLISH
BEGIN:VEVENT
DTSTAMP:20260421T112114Z
CREATED:20080410T185057Z
UID:ATEvent-13ed396c2f24c7dbe023af3834e22903
LAST-MODIFIED:20090123T152034Z
SUMMARY:Lesung mit Helga Janzen
DTSTART:20080515T173000Z
DTEND:20080515T190000Z
DESCRIPTION:Helga Janzen stellt ihr Buch „Kristian Sund\, eine Saga 
 von der Schwanenjungfrau“ vor
LOCATION:Café Aufbruch\, Hintere Schildstr. 18\, Do-Hörde
CATEGORIES:Lesung
CLASS:PUBLIC
END:VEVENT
END:VCALENDAR
