BEGIN:VCALENDAR
PRODID:-//AT Content Types//AT Event//EN
VERSION:2.0
METHOD:PUBLISH
BEGIN:VEVENT
DTSTAMP:20260421T082644Z
CREATED:20070616T131527Z
UID:ATEvent-434483be59032d54aa8d17a6b6f080ab
LAST-MODIFIED:20090123T152034Z
SUMMARY:Frauencafé Couragina
DTSTART:20080509T150000Z
DTEND:20080509T170000Z
DESCRIPTION:Thema\: Die Jungfrau von Orléans\, Jeanne D'Arc
LOCATION:Café Aufbruch\, Hintere Schildstr. 18\, Do-Hörde
CATEGORIES:Gesprächsrunde
CLASS:PUBLIC
END:VEVENT
END:VCALENDAR
