BEGIN:VCALENDAR
PRODID:-//AT Content Types//AT Event//EN
VERSION:2.0
METHOD:PUBLISH
BEGIN:VEVENT
DTSTAMP:20260421T112413Z
CREATED:20080220T214958Z
UID:ATEvent-ec991675af01653f4a5091003ad15083
LAST-MODIFIED:20090123T152033Z
SUMMARY:Feier zur Walpurgisnacht und zum 1. Mai
DTSTART:20080430T140000Z
DTEND:20080430T223000Z
DESCRIPTION:Aus der Reihe Jahreszeitenfeste\,\nTreffpunkt um 19 Uhr in
  der Geschichtswerkstatt und ab 16 Uhr am Marksbach
LOCATION:Am Marksbach und in der Geschichtswerkstatt\, Do-Hörde
CATEGORIES:Jahreszeitenfest
CLASS:PUBLIC
END:VEVENT
END:VCALENDAR
