BEGIN:VCALENDAR
PRODID:-//AT Content Types//AT Event//EN
VERSION:1.0
BEGIN:VEVENT
DTSTART:20080426T130000Z
DTEND:20080426T150000Z
DCREATED:20080410T085850Z
UID:ATEvent-0da512c46b3ec84d71b8770df24762ad
SEQUENCE:0
LAST-MODIFIED:20090123T152033Z
SUMMARY:Matriarchaler Kulturkreis
DESCRIPTION:Sitten und Gebräuche der Frauen aus dem Mittelmeerraum
LOCATION:Café Aufbruch\, Hintere Schildstr. 18\, Do-Hörde
PRIORITY:3
TRANSP:0
END:VEVENT
END:VCALENDAR
