BEGIN:VCALENDAR
PRODID:-//AT Content Types//AT Event//EN
VERSION:1.0
BEGIN:VEVENT
DTSTART:20080417T170000Z
DTEND:20080417T190000Z
DCREATED:20080220T221711Z
UID:ATEvent-6233cd3f988a689e9b5a32722cb6576b
SEQUENCE:0
LAST-MODIFIED:20090123T152033Z
SUMMARY:Peter STURM\: "Ein Karl Valentin Programm"
DESCRIPTION:"Bayrisch für Anfänger und Forstgehilfen"
LOCATION:Café Aufbruch\, Hintere Schildstr. 18\, Do-Hörde
PRIORITY:3
TRANSP:0
END:VEVENT
END:VCALENDAR
