BEGIN:VCALENDAR
PRODID:-//AT Content Types//AT Event//EN
VERSION:1.0
BEGIN:VEVENT
DTSTART:20080403T170000Z
DTEND:20080403T190000Z
DCREATED:20070930T151523Z
UID:ATEvent-3865e507f6f7707d0f1028c6a954b8cc
SEQUENCE:0
LAST-MODIFIED:20090123T152032Z
SUMMARY:Philosophenlounge - Thema\: "Die Zeit"
DESCRIPTION:Treffen rund um Lebenskunst und Philosophie
LOCATION:Café Aufbruch\, Hintere Schildstr. 18\, Do-Hörde
PRIORITY:3
TRANSP:0
END:VEVENT
END:VCALENDAR
