BEGIN:VCALENDAR
PRODID:-//AT Content Types//AT Event//EN
VERSION:1.0
BEGIN:VEVENT
DTSTART:20080330T093000Z
DTEND:20080330T120000Z
DCREATED:20080220T214958Z
UID:ATEvent-c7a2f25ffbbcd31b9a13e92bd181ca9c
SEQUENCE:0
LAST-MODIFIED:20090123T152032Z
SUMMARY:Feier zum Frühlingsanfang
DESCRIPTION:Aus der Reihe Jahreszeitenfeste
LOCATION:Café Aufbruch\, Hintere Schildstr. 18\, Do-Hörde
PRIORITY:3
TRANSP:0
END:VEVENT
END:VCALENDAR
