BEGIN:VCALENDAR
PRODID:-//AT Content Types//AT Event//EN
VERSION:1.0
BEGIN:VEVENT
DTSTART:20080228T180000Z
DTEND:20080228T200000Z
DCREATED:20071010T090405Z
UID:ATEvent-42b16ccebefcff4ee2ebec04d928b6e7
SEQUENCE:0
LAST-MODIFIED:20090123T152029Z
SUMMARY:Vortrag 2.Teil\: Wahrnehmung\, Aus- und Eindruck
DESCRIPTION:Double-Bind - Paradoxien in der Kommunikation.
LOCATION:Café Aufbruch\, Hintere Schildstr. 18\, Do-Hörde
PRIORITY:3
TRANSP:0
END:VEVENT
END:VCALENDAR
