BEGIN:VCALENDAR
PRODID:-//AT Content Types//AT Event//EN
VERSION:1.0
BEGIN:VEVENT
DTSTART:20080220T170000Z
DTEND:20080320T170000Z
DCREATED:20080220T210903Z
UID:ATEvent-9d60af3d0c70108de9a8e00efbe54c20
SEQUENCE:0
LAST-MODIFIED:20090123T152032Z
SUMMARY:Ausstellung\: "Wortgewandte Bilder"
DESCRIPTION:Fotografie und Texte von K. Monetha
LOCATION:Café Aufbruch\, Hintere Schildstr. 18\, Do-Hörde
PRIORITY:3
TRANSP:0
END:VEVENT
END:VCALENDAR
