BEGIN:VCALENDAR
PRODID:-//AT Content Types//AT Event//EN
VERSION:1.0
BEGIN:VEVENT
DTSTART:20080127T140000Z
DTEND:20080127T170000Z
DCREATED:20071227T213806Z
UID:ATEvent-401ad6ddd376448f502a2b20134931e7
SEQUENCE:0
LAST-MODIFIED:20090123T152031Z
SUMMARY:"Ich habe einen Traum..." Schreibwettbewerb für alle!
DESCRIPTION:Lesung und Sieger-Ehrungen
LOCATION:Café Aufbruch\, Hintere Schildstr. 18\, Do-Hörde
PRIORITY:3
TRANSP:0
END:VEVENT
END:VCALENDAR
