BEGIN:VCALENDAR
PRODID:-//AT Content Types//AT Event//EN
VERSION:1.0
BEGIN:VEVENT
DTSTART:20071211T150000Z
DTEND:20071211T170000Z
DCREATED:20070804T121922Z
UID:ATEvent-db1065b50abb98b0a55a0420f9de643c
SEQUENCE:0
LAST-MODIFIED:20090123T152030Z
SUMMARY:Nadel und Faden im Café
DESCRIPTION:Es wird gestrickt\, gesponnen und erzählt. \nWeiter jewei
 ls dienstags bis Ende Dezember
LOCATION:Café Aufbruch
PRIORITY:3
TRANSP:0
END:VEVENT
END:VCALENDAR
