BEGIN:VCALENDAR
PRODID:-//AT Content Types//AT Event//EN
VERSION:1.0
BEGIN:VEVENT
DTSTART:20071209T140000Z
DTEND:20071209T160000Z
DCREATED:20071024T185338Z
UID:ATEvent-b06d046e2f4969475d7036bf3a765ac8
SEQUENCE:0
LAST-MODIFIED:20090123T152029Z
SUMMARY:Lesung mit Helga Sauer
DESCRIPTION:Die Dortmunder Autorin Helga Sauer liest für Kinder und E
 rwachsene bei Kaffee\, Kakao und Kuchen aus ihren Büchern
LOCATION:Café Aufbruch\, Hintere Schildstr. 18\, Do-Hörde
PRIORITY:3
TRANSP:0
END:VEVENT
END:VCALENDAR
