BEGIN:VCALENDAR
PRODID:-//AT Content Types//AT Event//EN
VERSION:2.0
METHOD:PUBLISH
BEGIN:VEVENT
DTSTAMP:20260421T112717Z
CREATED:20070804T121922Z
UID:ATEvent-ebbce561aec214515f8d3be7d172d43f
LAST-MODIFIED:20090123T152030Z
SUMMARY:Nadel und Faden im Café
DTSTART:20071204T150000Z
DTEND:20071204T170000Z
DESCRIPTION:Es wird gestrickt\, gesponnen und erzählt. \nWeiter jewei
 ls dienstags bis Ende Dezember
LOCATION:Café Aufbruch
CATEGORIES:Kreativwerkstatt
CLASS:PUBLIC
END:VEVENT
END:VCALENDAR
