BEGIN:VCALENDAR
PRODID:-//AT Content Types//AT Event//EN
VERSION:1.0
BEGIN:VEVENT
DTSTART:20071127T150000Z
DTEND:20071127T170000Z
DCREATED:20070804T121922Z
UID:ATEvent-d2d20be513da967ff7f7c33c6c896992
SEQUENCE:0
LAST-MODIFIED:20090123T152030Z
SUMMARY:Nadel und Faden im Café
DESCRIPTION:Es wird gestrickt\, gesponnen und erzählt. \nWeiter jewei
 ls dienstags bis Ende Dezember
LOCATION:Café Aufbruch
PRIORITY:3
TRANSP:0
END:VEVENT
END:VCALENDAR
