BEGIN:VCALENDAR
PRODID:-//AT Content Types//AT Event//EN
VERSION:1.0
BEGIN:VEVENT
DTSTART:20071123T170000Z
DTEND:20071123T200000Z
DCREATED:20071009T084017Z
UID:ATEvent-d4c3d6cf03a733bff48f11666cf4356f
SEQUENCE:0
LAST-MODIFIED:20090123T152029Z
SUMMARY:Interaktiv "spielen" ohne Würfel\, Brett und Karten
DESCRIPTION:Gemeinsam Spaß haben und vielleicht noch etwas lernen.
LOCATION:Café Aufbruch\, Hintere Schildstr. 18\, Do-Hörde
PRIORITY:3
TRANSP:0
END:VEVENT
END:VCALENDAR
