BEGIN:VCALENDAR
PRODID:-//AT Content Types//AT Event//EN
VERSION:1.0
BEGIN:VEVENT
DTSTART:20071113T150000Z
DTEND:20071113T170000Z
DCREATED:20070804T121922Z
UID:ATEvent-1742bdc2514126084a76186d3c963255
SEQUENCE:0
LAST-MODIFIED:20090123T152029Z
SUMMARY:Nadel und Faden im Café
DESCRIPTION:Es wird gestrickt\, gesponnen und erzählt. \nWeiter jewei
 ls dienstags bis Ende Dezember
LOCATION:Café Aufbruch
PRIORITY:3
TRANSP:0
END:VEVENT
END:VCALENDAR
