BEGIN:VCALENDAR
PRODID:-//AT Content Types//AT Event//EN
VERSION:2.0
METHOD:PUBLISH
BEGIN:VEVENT
DTSTAMP:20260421T095036Z
CREATED:20071026T202001Z
UID:ATEvent-df7601c329dcd72c180637573170bb0e
LAST-MODIFIED:20090123T152029Z
SUMMARY:Austellungseröffnung
DTSTART:20071112T160000Z
DTEND:20071112T173000Z
DESCRIPTION:"5"\nDas malerische Universum des Ralf Erwin
LOCATION:Café Aufbruch\, Hintere Schildstr. 18\, Do-Hörde
CATEGORIES:Ausstellung
CLASS:PUBLIC
END:VEVENT
END:VCALENDAR
