BEGIN:VCALENDAR
PRODID:-//AT Content Types//AT Event//EN
VERSION:2.0
METHOD:PUBLISH
BEGIN:VEVENT
DTSTAMP:20260421T112700Z
CREATED:20070804T121922Z
UID:ATEvent-e3fa03b8dd165ca75bbc23c3bdd2cffb
LAST-MODIFIED:20090123T152029Z
SUMMARY:Nadel und Faden im Café
DTSTART:20071106T150000Z
DTEND:20071106T170000Z
DESCRIPTION:Es wird gestrickt\, gesponnen und erzählt. \nWeiter jewei
 ls dienstags bis Ende November
LOCATION:Café Aufbruch
CATEGORIES:Kreativwerkstatt
CLASS:PUBLIC
END:VEVENT
END:VCALENDAR
