BEGIN:VCALENDAR
PRODID:-//AT Content Types//AT Event//EN
VERSION:1.0
BEGIN:VEVENT
DTSTART:20071030T150000Z
DTEND:20071030T170000Z
DCREATED:20070804T121922Z
UID:ATEvent-8904982f7948a07ee09f262d01ac7631
SEQUENCE:0
LAST-MODIFIED:20090123T152029Z
SUMMARY:Nadel und Faden im Café
DESCRIPTION:Es wird gestrickt\, gesponnen und erzählt. \nWeiter jewei
 ls dienstags bis Ende Dezember
LOCATION:Café Aufbruch
PRIORITY:3
TRANSP:0
END:VEVENT
END:VCALENDAR
