BEGIN:VCALENDAR
PRODID:-//AT Content Types//AT Event//EN
VERSION:1.0
BEGIN:VEVENT
DTSTART:20071002T140000Z
DTEND:20071002T160000Z
DCREATED:20070804T121922Z
UID:ATEvent-bcf172943acb550c38ee16c373d41600
SEQUENCE:0
LAST-MODIFIED:20090123T152027Z
SUMMARY:Nadel und Faden im Café
DESCRIPTION:Es wird gestrickt\, gesponnen und erzählt. \nWeiter jewei
 ls dienstags bis Ende November
LOCATION:Café Aufbruch
PRIORITY:3
TRANSP:0
END:VEVENT
END:VCALENDAR
