BEGIN:VCALENDAR
PRODID:-//AT Content Types//AT Event//EN
VERSION:2.0
METHOD:PUBLISH
BEGIN:VEVENT
DTSTAMP:20260421T095940Z
CREATED:20070806T111158Z
UID:ATEvent-aa6b9c57a12e179f836354831b9e4c30
LAST-MODIFIED:20090123T152026Z
SUMMARY:Gesprächskreis\: Frauenspezifisch
DTSTART:20070927T130000Z
DTEND:20070927T150000Z
LOCATION:Café Aufbruch\, Hintere Schildstr. 18\, Do-Hörde
CATEGORIES:Gesprächsrunde
CLASS:PUBLIC
END:VEVENT
END:VCALENDAR
