BEGIN:VCALENDAR
PRODID:-//AT Content Types//AT Event//EN
VERSION:2.0
METHOD:PUBLISH
BEGIN:VEVENT
DTSTAMP:20260421T112348Z
CREATED:20070806T105207Z
UID:ATEvent-043bfe0ce95b858132fad6feaf07d186
LAST-MODIFIED:20090123T152026Z
SUMMARY:Aufbruch-Treffen
DTSTART:20070915T130000Z
DTEND:20070915T160000Z
DESCRIPTION:Monatliches Treffen der Initiative „Aufbruch - anders be
 sser leben“. Austausch\, Informationen\, gemeinsam essen (traditione
 ll bringt jede(r) etwas mit).
LOCATION:Café Aufbruch
CATEGORIES:Gesprächsrunde
CLASS:PUBLIC
END:VEVENT
END:VCALENDAR
