BEGIN:VCALENDAR
PRODID:-//AT Content Types//AT Event//EN
VERSION:2.0
METHOD:PUBLISH
BEGIN:VEVENT
DTSTAMP:20260419T143018Z
CREATED:20070806T110813Z
UID:ATEvent-c52602bd0763eb481802f094db14bc06
LAST-MODIFIED:20090123T152026Z
SUMMARY:Frauencafé Couragina
DTSTART:20070914T150000Z
DTEND:20070914T170000Z
DESCRIPTION:Thema\: Abhängigkeit und Liebe
LOCATION:Café Aufbruch\, Hintere Schildstr. 18\, Do-Hörde
CATEGORIES:Gesprächsrunde
CLASS:PUBLIC
END:VEVENT
END:VCALENDAR
