BEGIN:VCALENDAR
PRODID:-//AT Content Types//AT Event//EN
VERSION:2.0
METHOD:PUBLISH
BEGIN:VEVENT
DTSTAMP:20260421T082554Z
CREATED:20070806T105933Z
UID:ATEvent-5498a7e736bd983936f132e20bc5d0c7
LAST-MODIFIED:20090123T152025Z
SUMMARY:Gesprächskreis „Frauenspezifisch“
DTSTART:20070830T130000Z
DTEND:20070830T150000Z
DESCRIPTION:Donnerstag den 30. 08. um 15 Uhr
LOCATION:Café Aufbruch
CATEGORIES:Gesprächsrunde
CLASS:PUBLIC
END:VEVENT
END:VCALENDAR
