BEGIN:VCALENDAR
PRODID:-//AT Content Types//AT Event//EN
VERSION:2.0
METHOD:PUBLISH
BEGIN:VEVENT
DTSTAMP:20260421T112230Z
CREATED:20070613T203836Z
UID:ATEvent-c5f49c7a0cf58a6e47c23be61fdad3a2
LAST-MODIFIED:20090123T152023Z
SUMMARY:Feldenkrais
DTSTART:20070625T180000Z
DTEND:20070625T190000Z
DESCRIPTION:Nur was leicht geht ist gefragt - Was leicht geht bringt G
 ewinn!\nMit einfachen Bewegungen erreichen Sie mehr Beweglichkeit und 
 eine bessere Koordination von Hals\, Schultern und Rücken.\nBitte ein
  Badetuch oder zwei Handtücher als Polstermaterial mitbringen.
LOCATION:Café Aufbruch
CATEGORIES:Feldenkrais
CLASS:PUBLIC
END:VEVENT
END:VCALENDAR
