BEGIN:VCALENDAR
PRODID:-//AT Content Types//AT Event//EN
VERSION:2.0
METHOD:PUBLISH
BEGIN:VEVENT
DTSTAMP:20260420T102219Z
CREATED:20070129T160912Z
UID:ATEvent-84b1f488a440d0ad9afb5dbddc562bbe
LAST-MODIFIED:20090123T152022Z
SUMMARY:Gesprächsrunde
DTSTART:20070607T170000Z
DTEND:20070607T190000Z
DESCRIPTION:Gespräche im Café für Lebenskünstler und PhilosophInne
 n -\nThema des Abends\: Leben voller Sinn - Sinnfindung
LOCATION:Café Aufbruch\, Hintere Schildstr. 18\, Dortmund-Hörde
CATEGORIES:Gesprächsrunde
URL:http://www.contrip.de/contrip_web/lounge.html
CLASS:PUBLIC
END:VEVENT
END:VCALENDAR
