BEGIN:VCALENDAR
PRODID:-//AT Content Types//AT Event//EN
VERSION:1.0
BEGIN:VEVENT
DTSTART:20070531T170000Z
DTEND:20070531T183000Z
DCREATED:20070224T140926Z
UID:ATEvent-3cffee7181607cf71a29bc621c998126
SEQUENCE:0
LAST-MODIFIED:20090123T152021Z
SUMMARY:Atemtherapie
DESCRIPTION:Aufatmen - Durchatmen\nEinführung in die Atemtherapie nac
 h Ilse Middendorf\nAchtung\: ausgebucht bis zu den Sommerferien
LOCATION:Café Aufbruch\, Hintere Schildstr. 18\, Do-Hörde
PRIORITY:3
TRANSP:0
END:VEVENT
END:VCALENDAR
