BEGIN:VCALENDAR
PRODID:-//AT Content Types//AT Event//EN
VERSION:2.0
METHOD:PUBLISH
BEGIN:VEVENT
DTSTAMP:20260421T112353Z
CREATED:20070224T140926Z
UID:ATEvent-f0abbead0fdd92f3497e9092543667bf
LAST-MODIFIED:20090123T152020Z
SUMMARY:Atemtherapie
DTSTART:20070510T170000Z
DTEND:20070510T183000Z
DESCRIPTION:Aufatmen - Durchatmen\nEinführung in die Atemtherapie nac
 h Ilse Middendorf\nAchtung\: ausgebucht bis zu den Sommerferien
LOCATION:Café Aufbruch\, Hintere Schildstr. 18\, Do-Hörde
CATEGORIES:Atemtherapie
CLASS:PUBLIC
END:VEVENT
END:VCALENDAR
