BEGIN:VCALENDAR
PRODID:-//AT Content Types//AT Event//EN
VERSION:2.0
METHOD:PUBLISH
BEGIN:VEVENT
DTSTAMP:20260421T112159Z
CREATED:20070429T150629Z
UID:ATEvent-69bfb15f998913b3414d883bdd360a73
LAST-MODIFIED:20090123T152020Z
SUMMARY:Mai-Einläutung
DTSTART:20070430T133000Z
DTEND:20070430T215500Z
DESCRIPTION:Am 30.4. ist seit alters her die Walpurgisnacht\, wo angeb
 lich Hexen ihre Kräfte maßen. Weil wir auch mit Kindern feiern wolle
 n\, machen wir's anders\:
LOCATION:Lift U-Bahn Clarenberg ... Café Aufbruch
CATEGORIES:Feier,Exkursion
CONTACT:Christine
CLASS:PUBLIC
END:VEVENT
END:VCALENDAR
