BEGIN:VCALENDAR
PRODID:-//AT Content Types//AT Event//EN
VERSION:1.0
BEGIN:VEVENT
DTSTART:20070428T120000Z
DTEND:20070428T160000Z
DCREATED:20070131T125309Z
UID:ATEvent-7cf73b3087908f5ff3d3e1aa92fc44fa
SEQUENCE:0
LAST-MODIFIED:20090123T152019Z
SUMMARY:Ökologie praktisch
DESCRIPTION:Besuch der Bio-Bäckerei Niemand in Hagen
LOCATION:Bäckerei Niemand\, Hagen
PRIORITY:3
TRANSP:0
END:VEVENT
END:VCALENDAR
