BEGIN:VCALENDAR
PRODID:-//AT Content Types//AT Event//EN
VERSION:1.0
BEGIN:VEVENT
DTSTART:20070424T140000Z
DTEND:20070424T160000Z
DCREATED:20070129T165423Z
UID:ATEvent-673285e8d80ff67529a73ade9eaef433
SEQUENCE:0
LAST-MODIFIED:20090123T152019Z
SUMMARY:Nadeln im Café
DESCRIPTION:Es wird gestrickt\, gesponnen\, erzählt und gesungen.
LOCATION:Café Aufbruch\, Hintere Schildstr. 18\, Dortmund-Hörde
PRIORITY:3
TRANSP:0
END:VEVENT
END:VCALENDAR
