BEGIN:VCALENDAR
PRODID:-//AT Content Types//AT Event//EN
VERSION:1.0
BEGIN:VEVENT
DTSTART:20070421T130000Z
DTEND:20070421T160000Z
DCREATED:20070224T142833Z
UID:ATEvent-3f3cad4282f12452de4ca77e14736ac8
SEQUENCE:0
LAST-MODIFIED:20090123T152019Z
SUMMARY:Aufbruch-Treffen
DESCRIPTION:Monatliches Treffen der Initiative "Aufbruch - anders bess
 er leben " \nAustausch\, Informationen\, gemeinsam essen (traditionell
  bringt jeder etwas mit).
LOCATION:Café Aufbruch\, Hintere Schildstr. 18\, Do-Hörde
PRIORITY:3
TRANSP:0
END:VEVENT
END:VCALENDAR
