BEGIN:VCALENDAR
PRODID:-//AT Content Types//AT Event//EN
VERSION:2.0
METHOD:PUBLISH
BEGIN:VEVENT
DTSTAMP:20260421T112526Z
CREATED:20070224T150659Z
UID:ATEvent-0ff107b7566a7fd50e62198c611b3721
LAST-MODIFIED:20090123T152019Z
SUMMARY:Kreativwerkstatt
DTSTART:20070418T170000Z
DTEND:20070418T183000Z
DESCRIPTION:Es werden Tischpuppen genäht und eine Märchenaufführung
  vorbereitet.
LOCATION:Café Aufbruch\, Hintere Schildstr. 18\, Do-Hörde
CATEGORIES:Kreativwerkstatt
CLASS:PUBLIC
END:VEVENT
END:VCALENDAR
