BEGIN:VCALENDAR
PRODID:-//AT Content Types//AT Event//EN
VERSION:2.0
METHOD:PUBLISH
BEGIN:VEVENT
DTSTAMP:20260421T112058Z
CREATED:20070224T145128Z
UID:ATEvent-c17f4c7a389a2ff66f91751e977a1c46
LAST-MODIFIED:20090123T152019Z
SUMMARY:Meditation fällt heute (16.4.) aus.
DTSTART:20070416T170000Z
DTEND:20070416T180000Z
DESCRIPTION:Offene Meditationstunde\: gemeinsam verschiedene Meditatio
 nsarten praktizieren\, die Teilnehmer mit  einbringen können.
LOCATION:Café Aufbruch\, Hintere Schildstr. 18\, Do-Hörde
CATEGORIES:Meditation
CLASS:PUBLIC
END:VEVENT
END:VCALENDAR
