BEGIN:VCALENDAR
PRODID:-//AT Content Types//AT Event//EN
VERSION:1.0
BEGIN:VEVENT
DTSTART:20070404T170000Z
DTEND:20070404T183000Z
DCREATED:20070224T150659Z
UID:ATEvent-8e05d3d6542edf4fe7850dba83591ebc
SEQUENCE:0
LAST-MODIFIED:20090123T152018Z
SUMMARY:Kreativwerkstatt
DESCRIPTION:Es werden Tischpuppen genäht und eine Märchenaufführung
  vorbereitet.
LOCATION:Café Aufbruch\, Hintere Schildstr. 18\, Do-Hörde
PRIORITY:3
TRANSP:0
END:VEVENT
END:VCALENDAR
