BEGIN:VCALENDAR
PRODID:-//AT Content Types//AT Event//EN
VERSION:1.0
BEGIN:VEVENT
DTSTART:20070401T130000Z
DTEND:20070401T170000Z
DCREATED:20070330T115246Z
UID:ATEvent-0f477a48c42ee37fa27dd639dcdb1ec4
SEQUENCE:0
LAST-MODIFIED:20090123T152018Z
SUMMARY:Frühlingsritual
DESCRIPTION:Frühlingsgang und Frühlingsfeier
LOCATION:U-Bahnlift Clarenberg anschließend Café Aufbruch
PRIORITY:3
TRANSP:0
END:VEVENT
END:VCALENDAR
