BEGIN:VCALENDAR
PRODID:-//AT Content Types//AT Event//EN
VERSION:1.0
BEGIN:VEVENT
DTSTART:20070318T103000Z
DTEND:20070318T130000Z
DCREATED:20070224T143903Z
UID:ATEvent-80778a61860ea4aefa2823e3b2fb5273
SEQUENCE:0
LAST-MODIFIED:20090123T152018Z
SUMMARY:Vernissage
DESCRIPTION:Marie-Lisa Noltenius stellt ihre Fotografien aus und liest
  eigene Gedichte vor.\nZweimal Preisträgerin beim Dortmunder Literatu
 r- Schülerwettbewerb.
LOCATION:Café Aufbruch\, Hintere Schildstr. 18\, Do-Hörde
PRIORITY:3
TRANSP:0
END:VEVENT
END:VCALENDAR
