BEGIN:VCALENDAR
PRODID:-//AT Content Types//AT Event//EN
VERSION:2.0
METHOD:PUBLISH
BEGIN:VEVENT
DTSTAMP:20260421T082203Z
CREATED:20070224T150659Z
UID:ATEvent-624e1f528ea19bbedfb87da8a9246b3d
LAST-MODIFIED:20090123T152018Z
SUMMARY:Kreativwerkstatt
DTSTART:20070328T170000Z
DTEND:20070328T183000Z
DESCRIPTION:Es werden Tischpuppen genäht und eine Märchenaufführung
  vorbereitet.
LOCATION:Café Aufbruch\, Hintere Schildstr. 18\, Do-Hörde
CATEGORIES:Kreativwerkstatt
CLASS:PUBLIC
END:VEVENT
END:VCALENDAR
